BEGIN:VCALENDAR
VERSION:2.0
PRODID:-//Macao Base for Primary &amp; Secondary Education in Humanities &amp; Social Sciences - ECPv4.9.3.2//NONSGML v1.0//EN
CALSCALE:GREGORIAN
METHOD:PUBLISH
X-WR-CALNAME:Macao Base for Primary &amp; Secondary Education in Humanities &amp; Social Sciences
X-ORIGINAL-URL:https://umhss.um.edu.mo
X-WR-CALDESC:Events for Macao Base for Primary &amp; Secondary Education in Humanities &amp; Social Sciences
BEGIN:VEVENT
DTSTART;TZID=UTC+8:20190619T153000
DTEND;TZID=UTC+8:20190619T154500
DTSTAMP:20260424T203440
CREATED:20190615T072017Z
LAST-MODIFIED:20200122T072123Z
UID:5987-1560958200-1560959100@umhss.um.edu.mo
SUMMARY:Inauguration Ceremony for the Cultural Building of the University of Macau
DESCRIPTION:Event Information\n\n\n\nEvent Name\nInauguration Ceremony for the Cultural Building of the University of Macau\n\n\nCategories\nActivity\n\n\nOrganizer\nUniversity of Macau\n\n\nDate\n19 June 2019\n\n\nTime\n15:30 – 15:45\n\n\nVenue\nE34\, Cultural Building\n\n\nContent\nThe University of Macau (UM) is committed to integrating resources and leveraging its advantages to help Macao develop into a base for cross-cultural exchange and collaboration\, with Chinese culture being the predominant component\, complemented by a variety of other cultures that co-exist in harmony. The Cultural Building houses the Centre for Chinese History and Culture\, the Centre for Macau Studies\, the Confucius Institute\, the Chinese-Portuguese Bilingual Teaching and Training Centre\, the Centre for Arts and Design\, and the Macao Base for Primary & Secondary Education in Humanities & Social Sciences. Together\, these centres and institutes are tasked with the mission to promote Chinese culture and cross-cultural communication as well as to support Macao’s effort to become a centre for cultural exchanges between China and foreign countries in the Guangdong-Hong Kong-Macao Greater Bay Area and the world.\n\n\nTarget Audience\nInvited guests\n\n\nLanguage\nMandarin\,English\n\n\n\n \n
URL:https://umhss.um.edu.mo/event/inauguration-ceremony-for-the-cultural-building-of-the-university-of-macau/
ATTACH;FMTTYPE=image/png:https://umhss.um.edu.mo/wp-content/uploads/2020/01/1-400x266.png
END:VEVENT
END:VCALENDAR