BEGIN:VCALENDAR
VERSION:2.0
PRODID:-//Macao Base for Primary &amp; Secondary Education in Humanities &amp; Social Sciences - ECPv4.9.3.2//NONSGML v1.0//EN
CALSCALE:GREGORIAN
METHOD:PUBLISH
X-WR-CALNAME:Macao Base for Primary &amp; Secondary Education in Humanities &amp; Social Sciences
X-ORIGINAL-URL:https://umhss.um.edu.mo
X-WR-CALDESC:Events for Macao Base for Primary &amp; Secondary Education in Humanities &amp; Social Sciences
BEGIN:VEVENT
DTSTART;TZID=UTC+8:20230426T190000
DTEND;TZID=UTC+8:20230426T210000
DTSTAMP:20260426T033218
CREATED:20230504T152200Z
LAST-MODIFIED:20230504T152200Z
UID:20265-1682535600-1682542800@umhss.um.edu.mo
SUMMARY:CIUM’s Academic Seminar – A Study on the Selection Mechanism of Chinese Sentence Patterns: A Functional Perspective
DESCRIPTION: \n\n\n\nSpeaker:\nProfessor YANG Kairong\n\n\nDate:\n26/04/2023\n\n\nTime:\n\n19:00 – 21:00\n\n\n\nVenue:\n\nZOOM / E21-3121\n\n\n\nOrganizer:\nUM Confucius Institute\n\n\nAudience:\nAll are welcome\n\n\nEnquiry:\nConfucius Institute\nEmail: Confucius.Institute@um.edu.mo\nTel: (+853) 8822 4500\n\n\n\n
URL:https://umhss.um.edu.mo/event/ciums-academic-seminar-a-study-on-the-selection-mechanism-of-chinese-sentence-patterns-a-functional-perspective/
LOCATION:E21-3121
ATTACH;FMTTYPE=image/png:https://umhss.um.edu.mo/wp-content/uploads/2023/05/e6a58ae587b1e6a6ae_e4bb8ee58a9fe883bde8a792e5baa6e79c8be6b189e8afade79a84e58fa5e5bc8fe98089e68ba9e69cbae588b6.png
END:VEVENT
END:VCALENDAR