BEGIN:VCALENDAR
VERSION:2.0
PRODID:-//Macao Base for Primary &amp; Secondary Education in Humanities &amp; Social Sciences - ECPv4.9.3.2//NONSGML v1.0//EN
CALSCALE:GREGORIAN
METHOD:PUBLISH
X-WR-CALNAME:Macao Base for Primary &amp; Secondary Education in Humanities &amp; Social Sciences
X-ORIGINAL-URL:https://umhss.um.edu.mo
X-WR-CALDESC:Events for Macao Base for Primary &amp; Secondary Education in Humanities &amp; Social Sciences
BEGIN:VEVENT
DTSTART;TZID=UTC+8:20191021T113000
DTEND;TZID=UTC+8:20191021T121000
DTSTAMP:20260424T192042
CREATED:20191018T041430Z
LAST-MODIFIED:20200122T041614Z
UID:5923-1571657400-1571659800@umhss.um.edu.mo
SUMMARY:CCHC Lecture Series - The earliest China ── Study of “China” and “Chinese” from archaeological and cultural reading materials
DESCRIPTION:Event Information\n\n\n\nEvent Name\nCCHC Lecture Series – The earliest China ── Study of “China” and “Chinese” from archaeological and cultural reading materials\n\n\nCategories\nSeminar / Lecture\n\n\nOrganizer\nFAH – Centre for Chinese History and Culture\n\n\nSpeaker\nDr. CHONG Chon Fai\n\n\nDate\n21 October 2019\n\n\nTime\n11:30 – 12:10\n\n\nVenue\nEscola Secundária Luso-Chinesa de Luís Gonzaga Gomes\n\n\nTarget Audience\nTeachers and Students of Escola Secundária Luso-Chinesa de Luís Gonzaga Gomes\n\n\n\n \n
URL:https://umhss.um.edu.mo/event/cchc-lecture-series-the-earliest-china-%e2%94%80%e2%94%80-study-of-china-and-chinese-from-archaeological-and-cultural-reading-materials/
ATTACH;FMTTYPE=image/jpeg:https://umhss.um.edu.mo/wp-content/uploads/2020/01/49048-87496.jpg
END:VEVENT
END:VCALENDAR