BEGIN:VCALENDAR
VERSION:2.0
PRODID:-//Macao Base for Primary &amp; Secondary Education in Humanities &amp; Social Sciences - ECPv4.9.3.2//NONSGML v1.0//EN
CALSCALE:GREGORIAN
METHOD:PUBLISH
X-WR-CALNAME:Macao Base for Primary &amp; Secondary Education in Humanities &amp; Social Sciences
X-ORIGINAL-URL:https://umhss.um.edu.mo/?lang=zh-hant
X-WR-CALDESC:Events for Macao Base for Primary &amp; Secondary Education in Humanities &amp; Social Sciences
BEGIN:VEVENT
DTSTART;TZID=UTC+8:20190826T080000
DTEND;TZID=UTC+8:20190830T170000
DTSTAMP:20260425T002838
CREATED:20200616T022857Z
LAST-MODIFIED:20200616T022857Z
UID:6838-1566806400-1567184400@umhss.um.edu.mo
SUMMARY:“美好上海 魅力黃浦”主題攝影展
DESCRIPTION:“美好上海 魅力黃浦”主題攝影展\nE31 學生活動中心\n\n\n活 動 資 料\n\n\n\n活動名稱\n“美好上海 魅力黃浦”(攝影展)\n\n\n類別\n展覽\n\n\n主辦單位\n上海市黃浦海外聯誼會、澳門青年交流促進會\n\n\n合辦單位\n澳門大學中國歷史文化中心、澳門中小學生人文社科教育基地\n\n\n日期\n2019年8月26-30日\n\n\n地點\nE31 學生活動中心\n\n\n適合對象\n歡迎澳大師生及訪客\n\n\n\n \n\n\n
URL:https://umhss.um.edu.mo/event/%e7%be%8e%e5%a5%bd%e4%b8%8a%e6%b5%b7-%e9%ad%85%e5%8a%9b%e9%bb%83%e6%b5%a6%e4%b8%bb%e9%a1%8c%e6%94%9d%e5%bd%b1%e5%b1%95/?lang=zh-hant
LOCATION:E31 學生活動中心
ATTACH;FMTTYPE=image/jpeg:https://umhss.um.edu.mo/wp-content/uploads/2020/06/banner.jpg
END:VEVENT
END:VCALENDAR