BEGIN:VCALENDAR
VERSION:2.0
PRODID:-//Macao Base for Primary &amp; Secondary Education in Humanities &amp; Social Sciences - ECPv4.9.3.2//NONSGML v1.0//EN
CALSCALE:GREGORIAN
METHOD:PUBLISH
X-WR-CALNAME:Macao Base for Primary &amp; Secondary Education in Humanities &amp; Social Sciences
X-ORIGINAL-URL:https://umhss.um.edu.mo/?lang=zh-hant
X-WR-CALDESC:Events for Macao Base for Primary &amp; Secondary Education in Humanities &amp; Social Sciences
BEGIN:VEVENT
DTSTART;TZID=UTC+8:20190919T100000
DTEND;TZID=UTC+8:20190930T170000
DTSTAMP:20260424T211700
CREATED:20191010T110843Z
LAST-MODIFIED:20191010T110843Z
UID:2800-1568887200-1569862800@umhss.um.edu.mo
SUMMARY:中國歷史文化論壇暨孔誕藝文匯萃
DESCRIPTION:中國歷史文化論壇暨孔誕藝文匯萃\nE34\, 崇文樓\n\n\n活 動 資 料\n\n\n\n活動名稱\n中國歷史文化論壇暨孔誕藝文匯萃\n\n\n類別\n會議 / 研討會\n\n\n主辦單位\n中國歷史文化中心 & 孔子學院\n\n\n日期\n2019年9月19日 – 2019年9月30日\n\n\n時間\n10:00 – 17:00\n\n\n地點\nE34\, 崇文樓\n\n\n內容\n為研究中國傳統文化中的儒學思想及其在當代社會的發展新變，增強民族文化自信，探索中國文化的復興與重建之路，澳門大學人文學院中國歷史文化中心將聯合孔子學院共同舉辦「中國歷史文化論壇暨孔誕藝文匯萃」。 \n開幕式\n2019年9月19日 上午10:00-11:00 | E34 崇文樓大堂 \n祭孔儀式\n今年偉大的教育家、思想家孔子誕辰2570周年。值此海內外共襄盛事、致敬先哲之際，澳門大學孔子學院“文化形象大使”禮儀團在「中國歷史文化論壇暨孔誕匯萃」開幕儀式上，向海內外來賓彙報展示傳統經典佾舞釋典，以莊重典雅的文化禮儀體現澳門大學青年學子對“仁、義、禮、知、信”校訓內涵的理解，以傳統經典演繹青年學子對中華傳統文化的認知。 \n更多活動及詳情，請瀏覽人文學院網站 https://go.um.edu.mo/pjjw9jqr\n\n\n適合對象\n歡迎有興趣人士參與\n\n\n語言\n普通話\n\n\n\n \n\n\n
URL:https://umhss.um.edu.mo/event/%e4%b8%ad%e5%9c%8b%e6%ad%b7%e5%8f%b2%e6%96%87%e5%8c%96%e8%ab%96%e5%a3%87%e6%9a%a8%e5%ad%94%e8%aa%95%e8%97%9d%e6%96%87%e5%8c%af%e8%90%83/?lang=zh-hant
ATTACH;FMTTYPE=image/jpeg:https://umhss.um.edu.mo/wp-content/uploads/2019/10/48708-85644.jpg
END:VEVENT
END:VCALENDAR